BEGIN:VCALENDAR
VERSION:2.0
CALSCALE:GREGORIAN
METHOD:PUBLISH
X-WR-TIMEZONE:Australia/Sydney
BEGIN:VTIMEZONE
TZID:Australia/Sydney
BEGIN:STANDARD
TZNAME:AEST
DTSTART:19700101T000000
TZOFFSETFROM:+1100
TZOFFSETTO:+1000
END:STANDARD
END:VTIMEZONE
BEGIN:VEVENT
DTSTART;TZID=Australia/Sydney:20190219
DTEND;TZID=Australia/Sydney:20190219
DTSTAMP:20260425T054018
UID:135
SUMMARY:Somers Camp
DESCRIPTION:




A few senior students will enjoy Somers Camp!&amp;nbsp; Keep an eye out for information regarding Somers Camp throughout the year!


SEQUENCE:0
STATUS:CONFIRMED
TRANSP:OPAQUE
END:VEVENT
END:VCALENDAR