BEGIN:VCALENDAR
VERSION:2.0
CALSCALE:GREGORIAN
METHOD:PUBLISH
X-WR-TIMEZONE:Australia/Sydney
BEGIN:VTIMEZONE
TZID:Australia/Sydney
BEGIN:STANDARD
TZNAME:AEST
DTSTART:19700101T000000
TZOFFSETFROM:+1100
TZOFFSETTO:+1000
END:STANDARD
END:VTIMEZONE
BEGIN:VEVENT
DTSTART;TZID=Australia/Sydney:20210209
DTEND;TZID=Australia/Sydney:20210209
DTSTAMP:20260425T025837
UID:259
SUMMARY:&quot;Get To Know You&quot; Interviews
DESCRIPTION:




These interviews will be an opportunity for parents to meet their child&#039;s classroom teacher and discuss any questions&amp;nbsp;they may have.


SEQUENCE:0
STATUS:CONFIRMED
TRANSP:OPAQUE
END:VEVENT
END:VCALENDAR